BEGIN:VCALENDAR
VERSION:2.0
PRODID:-//Scmaf - ECPv6.9.1//NONSGML v1.0//EN
CALSCALE:GREGORIAN
METHOD:PUBLISH
X-ORIGINAL-URL:https://scmaf.nl
X-WR-CALDESC:Evenementen voor Scmaf
REFRESH-INTERVAL;VALUE=DURATION:PT1H
X-Robots-Tag:noindex
X-PUBLISHED-TTL:PT1H
BEGIN:VTIMEZONE
TZID:Europe/Amsterdam
BEGIN:DAYLIGHT
TZOFFSETFROM:+0100
TZOFFSETTO:+0200
TZNAME:CEST
DTSTART:20250330T010000
END:DAYLIGHT
BEGIN:STANDARD
TZOFFSETFROM:+0200
TZOFFSETTO:+0100
TZNAME:CET
DTSTART:20251026T010000
END:STANDARD
BEGIN:DAYLIGHT
TZOFFSETFROM:+0100
TZOFFSETTO:+0200
TZNAME:CEST
DTSTART:20260329T010000
END:DAYLIGHT
BEGIN:STANDARD
TZOFFSETFROM:+0200
TZOFFSETTO:+0100
TZNAME:CET
DTSTART:20261025T010000
END:STANDARD
END:VTIMEZONE
BEGIN:VEVENT
DTSTART;TZID=Europe/Amsterdam:20260214T080000
DTEND;TZID=Europe/Amsterdam:20260214T213000
DTSTAMP:20260415T050432
CREATED:20251128T104831Z
LAST-MODIFIED:20260131T200422Z
UID:9111-1771056000-1771104600@scmaf.nl
SUMMARY:Concerten Bethelkerk Lunteren
DESCRIPTION:De Bethelkerk in Lunteren is inmiddels een vaste locatie in onze concertagenda. Zo ook op zaterdag 14 februari 2026. \nMiddagconcert: 16:00\n \nDe organist voor het middagconcert is traditiegetrouw Gert van Hoef. Hij is een organist die op Youtube zeer bekend is met meer dan 125.000 volgers. In het verleden heeft hij de 1e prijs gewonnen op een Orgelconcours\, toen hij nog maar 2 jaar orgel speelde.  2 jaar later won hij het Feike Asma concours\, een zeer prestigieus concours waaraan organisten deelnemen uit heel de wereld. Enkele jaren later won hij het Govert van Wijn Orgelconcours. Hij is in 2018 afgestudeerd aan het conservatorium en heeft sindsdien een indrukwekkende fanbase opgebouwd maar is vooral bekend geworden door zijn concerten en filmpjes op Youtube. Hij geeft inmiddels internationaal concerten. \nAvondconcert 20:00\nTijdens onze koor- en samenzangavond zal het Christelijk Streekmannenkoor ‘Noord-west Veluwe’ haar medewerking verlenen. Dit koor staat onder leiding van Martin Mans en zal vanaf het orgel begeleid worden door Harm Hoeve. Het Christelijk Streekmannenkoor “Noord-West Veluwe\,” Nijkerk is 1 oktober 1976 opgericht. Het koor heeft zo’n 125 enthousiaste leden. Het repertoire van het koor is zeer divers en varieert van het geestelijke lied tot klassiek en populair; van negro spirituals tot vaderlandse en van Nederlandse tot anderstalige liederen. Het enthousiasme van het koor is te horen in de zang van de koorleden\, waardoor het koor een geliefd koor is bij de bezoekers. \n  \nOpbrengst voor goed doel\nDe opbrengsten van deze concerten en van al onze koor & samenzangavonden in 2026 zijn bestemd voor een project van Deputaat voor Israël en de stichting Isaac da Costa (voorheen: Steunfond Israël). In Jeruzalem staat een school met de naam Makor Hatikvah. (beteknis: bron van hoop) Dit is een school voor messias belijdende Joden. Deze christelijke school is wel toegestaan maar wordt niet gesteund vanuit de overheid. Door het geweld van 7 oktober 2023 zijn velen naar Jeruzalem gevlucht waardoor het aantal leerlingen fors is toegenomen. De leerlingen zorgen voor extra druk op de financiële begroting en er is lesmateriaal benodigd. Een prachtige bestemming welke wij als stichting graag willen steunen hiermee. Daarom dat bij onze concerten ook een collecte wordt gehouden voor dit project\, deze bevelen wij uiteraard van harte bij u aan. Helpt u ons mee helpen? Mocht u niet aanwezig kunnen zijn bij het concert\, maar wilt u dit doel wel steunen? Scan dan de QR code hieronder. (of klik op deze link: https://betaalverzoek.rabobank.nl/betaalverzoek/?id=sR0VI5A0QEizLYw7D_Mh2Q ) \n     \nZalmactie\nAls organisatie zijn wij afkomstig van Urk\, daarom kan het ook niet anders dan dat we een actie bedenken met vis in de hoofdrol. En dat is niet zomaar een stukje vis\, dit is een overheerlijk stukje zalm zoals u nog nooit heeft geproefd! De zalm wordt bereid volgens de ambachtelijke ‘slow food’ principes met aandacht voor het product. Deze principes en de aandacht voor het product leveren u een smaaksensatie op die u even alle beslommeringen van die dag doen vergeten. Het is voor bezoekers van het concert mogelijk om alvast een heerlijke moot of zijde gerookte zalm te bestellen. U heeft de keuze uit warmgerookte zalm of koudgerookte. Deze worden vers voor u gerookt in de week voor het concert  en deze nemen wij mee op de dag van het concert. Wij bewaren deze koel voor u en na afloop van het concert kunt u deze dan bij de uitgang bij ons afhalen en meenemen naar huis. Zo kunt u dubbel genieten van deze prachtige avond. De verkoop van de gerookte zalm loopt tot 10-12-2025. De opbrengst van deze actie is ook ten behoeve van het hierboven genoemde doel. \nLet op!: Als u uw ticket online koopt krijg u een leuke korting van ons\, de prijs aan de deur van een ticket ’s avonds 15 euro.
URL:https://scmaf.nl/evenement/concerten-bethelkerk-lunteren/
LOCATION:Bethelkerk\, Lunteren\, De Haverkamp 1\, Lunteren\, Gelderland\, 6741 PM\, Nederland
ATTACH;FMTTYPE=image/jpeg:https://scmaf.nl/wp-content/uploads/2025/11/ticketshop.jpg
ORGANIZER;CN="Stichting Culturele Muzikale Activiteiten Flevoland":MAILTO:info@scmaf.nl
END:VEVENT
BEGIN:VEVENT
DTSTART;TZID=Europe/Amsterdam:20250913T193000
DTEND;TZID=Europe/Amsterdam:20250913T210000
DTSTAMP:20260415T050432
CREATED:20250208T105822Z
LAST-MODIFIED:20250223T184440Z
UID:7177-1757791800-1757797200@scmaf.nl
SUMMARY:Open Monumentendag Concerten met Martin Mans en Martin Zonnenberg
DESCRIPTION:Zaterdag 13 september organiseren wij een tweetal concerten in de Augustijnenkerk van Dordrecht samen met Martin Mans en Martin Zonnenberg. \nInloopconcert 14:00\nOm 14.00 verzorgt het welbekende duo Martin Zonnenberg en Martin Mans een inloopconcert waarvan de toegang gratis is. Wel is er een collecte bij de uitgang voor de onkosten. \n \nMartin Mans (1965)\nAls jongen van 12 jaar kreeg Martin Mans zijn eerste vaste aanstelling in Melissant op Goeree Overflakkee. Sinds 1995 is hij als organist verbonden aan de Breepleinkerk in Rotterdam. Martin treedt vaak op in het buitenland en is een graag geziene organist in onder andere Zuid-Afrika\, Canada en Amerika. Hij heeft veel inspiratie opgedaan en muziek uitgewisseld tussen de continenten. Martin is van jongs af aan bezig geweest zijn improvisatietalent te ontwikkelen en heeft met zijn composities velen weten te bereiken. Naast organist is hij dirigent van enkele mannenkoren en vocale ensembles. In 2010 kreeg Martin een ridderorde vanwege zijn muzikale en culturele verdiensten. \nMartin Zonnenberg (1958)\nMartin Zonnenberg studeerde Koordirectie en Schoolmuziek en is als organist verbonden aan de Grote Kerk in Sliedrecht. Hij heeft diverse koren onder zijn hoede en is muziekarrangeur bij het bekende Tv-programma Nederland Zingt van de EO. Orgelspelen doet hij met overgave en telkens laat hij zijn gehoor genieten van de meest bijzondere pijporgelklanken. Ook hij ontving een ridderorde voor zijn muzikale verdiensten. \n  \n  \n  \n  \nAvondconcert 19:30\n’s Avonds organiseren wij een koor- en samenzangavond samen met het Christelijk Sliedrechts Mannenkoor Ichthus. \nJezus Christus\, Gods Zoon\, Verlosser. De Griekse beginletters van deze namen vormen samen het woord ‘ICHTHUS’. De naam geeft de drijfveer van het koor aan. Zingend getuigen en Zijn Naam verheerlijken door het gezongen lied. Hem lof en eer toebrengen. Vanzelfsprekend sluit het repertoire van het koor hierop aan. Het bestaat voornamelijk uit het eenvoudige Nederlandstalige geestelijke lied\, dat met gevoel wordt gezongen. Overigens komen ook klassieke werken en buitenlandstalige repertoire in bescheiden mate voor. Het koor is interkerkelijk en kenmerkt zich door een grote gedrevenheid om met elkaar te zingen. Zo kent men op de repetitieavond geen pauze en wordt 1\,5 uur aaneengesloten gerepeteerd. Er is een goede band en een grote saamhorigheid\, waardoor het een hechte vereniging is. Nieuwe leden worden met open armen ontvangen om hen deelgenoot te maken van de ontspanning die het zingen met elkaar geeft. Een vrijetijdsbesteding die je herhaaldelijk ‘kippenvel’ bezorgt\, wanneer je met meer dan 160 mannen een lied zingt. Stoer\, uitbundig of teder\, ingetogen\, het is een beleving die je niet meer loslaat. Het koor staat vanaf de oprichting onder de enthousiaste leiding van Martin Zonnenberg. \nDe URKER MANS FORMATIE is een unieke groep van 13 schitterende zangstemmen onder leiding van de ervaren dirigent Martin Mans. De tenoren en bassen hebben een jarenlange ervaring op zanggebied en beschikken over een schitterend\, stoer stemgeluid. Met veel genoegen treden zij op tijdens hun zomer- en wintertournees en brengen een gevarieerd repertoire ten gehore waarin een mix is gemaakt van het geestelijk lied\, klassieke meesterwerken\, spirituals en populaire arrangementen. \nMark Brandwijk (1994) is een begaafd musicus en improvisator\, het is hem met de paplepel ingegoten. Vanavond zal Mark de vleugel bespelen. Vanaf 2010-2016 studeerde Mark piano bij Mirjam IJsseldijk in Krimpen aan de Lek. In die tijd won hij onder andere de eerste prijs tijdens de Maassluise Muziekweek. Later volgde Mark lessen Bert van den Brink en Jan-Willem van Delft. Mark is als pianist met name actief als begeleider van koren\, solisten en instrumentalisten. Zo is hij onder andere vaste begeleider van Mannensemble Espressione en is hij regelmatig te zien bij Nederland Zingt. Mark is als pianist breed inzetbaar. Hij is een begaafd improvisator\, maar heeft ook een uitgebreid klassiek repertoire opgebouwd. Zijn voorliefde gaat uit naar het laatromantische en vroegmoderne repertoire. \nHet orgel zal deze avond worden bespeeld door Martin Mans en Martin Zonnenberg. \nOpbrengst voor goed doel\nDe opbrengsten van onze koor & samenzangavonden in 2025 zijn bestemd voor een project van Deputaat voor Israël en het Steunfond Israël. Zij gaan het gebruiken voor het ontwikkelen van christelijk lesmateriaal in Israël. Een prachtige bestemming welke wij als stichting graag willen steunen hiermee. Daarom dat bij onze concerten ook een collecte wordt gehouden voor dit project\, deze bevelen wij uiteraard van harte bij u aan. Mocht u niet aanwezig kunnen zijn bij het concert\, maar wilt u dit doel wel steunen? Scan dan de QR code hieronder. (of klik op deze link: https://betaalverzoek.rabobank.nl/betaalverzoek/?id=sR0VI5A0QEizLYw7D_Mh2Q ) \n     \nZalmactie\nAls organisatie zijn wij afkomstig van Urk\, daarom kan het ook niet anders dan dat we een actie bedenken met vis in de hoofdrol. En dat is niet zomaar een stukje vis\, dit is een overheerlijk stukje zalm zoals u nog nooit heeft geproefd! De zalm wordt bereid volgens de ambachtelijke ‘slow food’ principes met aandacht voor het product. Deze principes en de aandacht voor het product leveren u een smaaksensatie op die u even alle beslommeringen van die dag doen vergeten. \nHet is voor bezoekers van het concert mogelijk om alvast een heerlijke moot of zijde gerookte zalm te bestellen. U heeft de keuze uit warmgerookte zalm of koudgerookte. Deze worden vers voor u gerookt in de week voor het concert  en deze nemen wij mee op de dag van het concert. Wij bewaren deze koel voor u en na afloop van het concert kunt u deze dan bij de uitgang bij ons afhalen en meenemen naar huis. Zo kunt u dubbel genieten van deze prachtige avond. De verkoop van de gerookte zalm loopt tot 10-09-2025. De opbrengst van deze actie is ook ten behoeve van het hierboven genoemde doel. \nLet op!: Als u uw ticket online koopt krijg u een leuke korting van ons\, de prijs aan de deur van een ticket ’s avonds 15 euro.
URL:https://scmaf.nl/evenement/open-monumentendag-concerten-martin-mans-martin-zonnenberg/
LOCATION:Augustijnenkerk\, Dordrecht\, Voorstraat 216\, Dordrecht\, Zuid Holland\, 3311 ET\, Netherlands
CATEGORIES:Concert
ATTACH;FMTTYPE=image/jpeg:https://scmaf.nl/wp-content/uploads/2025/02/poster-Liggend.jpg
ORGANIZER;CN="Stichting Culturele Muzikale Activiteiten Flevoland":MAILTO:info@scmaf.nl
END:VEVENT
END:VCALENDAR