BEGIN:VCALENDAR
VERSION:2.0
PRODID:-//Scmaf - ECPv6.9.1//NONSGML v1.0//EN
CALSCALE:GREGORIAN
METHOD:PUBLISH
X-WR-CALNAME:Scmaf
X-ORIGINAL-URL:https://scmaf.nl
X-WR-CALDESC:Evenementen voor Scmaf
REFRESH-INTERVAL;VALUE=DURATION:PT1H
X-Robots-Tag:noindex
X-PUBLISHED-TTL:PT1H
BEGIN:VTIMEZONE
TZID:Europe/Amsterdam
BEGIN:DAYLIGHT
TZOFFSETFROM:+0100
TZOFFSETTO:+0200
TZNAME:CEST
DTSTART:20260329T010000
END:DAYLIGHT
BEGIN:STANDARD
TZOFFSETFROM:+0200
TZOFFSETTO:+0100
TZNAME:CET
DTSTART:20261025T010000
END:STANDARD
END:VTIMEZONE
BEGIN:VEVENT
DTSTART;TZID=Europe/Amsterdam:20260620T200000
DTEND;TZID=Europe/Amsterdam:20260620T213000
DTSTAMP:20260419T175334
CREATED:20260316T164136Z
LAST-MODIFIED:20260316T164827Z
UID:9775-1781985600-1781991000@scmaf.nl
SUMMARY:Groots korenconcert Elburg
DESCRIPTION:Zaterdag 20 juni 2026 organiseren wij een groots korenconcert in de Grote kerk van Elburg. \nAan dit concert werken mee: \n\nChristelijk Kamper Mannenkoor ‘Door Eendracht Verbonden’ o.l.v. Gerwin van der Plaats\nChristelijk Urker Visserskoor ‘Crescendo’ o.l.v. Louwe Kramer\nMarco den Toom\, orgel\nArjan en Edith Post\, trompet\n\nDe opbrengst van dit concert is o.a. bestemd voor de vervanging van het orgel van de Maranathakerk te Urk.
URL:https://scmaf.nl/evenement/groots-korenconcert-elburg/
LOCATION:Grote Kerk\, Elburg\, Zuiderkerkstraat 1\, Elburg\, Gelderland\, 081 CJ\, Netherlands
ATTACH;FMTTYPE=image/jpeg:https://scmaf.nl/wp-content/uploads/2026/03/2026-Elburg-Ticketshop.jpg
ORGANIZER;CN="Stichting Culturele Muzikale Activiteiten Flevoland":MAILTO:info@scmaf.nl
END:VEVENT
END:VCALENDAR