BEGIN:VCALENDAR
VERSION:2.0
PRODID:-//Scmaf - ECPv6.9.1//NONSGML v1.0//EN
CALSCALE:GREGORIAN
METHOD:PUBLISH
X-WR-CALNAME:Scmaf
X-ORIGINAL-URL:https://scmaf.nl
X-WR-CALDESC:Evenementen voor Scmaf
REFRESH-INTERVAL;VALUE=DURATION:PT1H
X-Robots-Tag:noindex
X-PUBLISHED-TTL:PT1H
BEGIN:VTIMEZONE
TZID:Europe/Amsterdam
BEGIN:DAYLIGHT
TZOFFSETFROM:+0100
TZOFFSETTO:+0200
TZNAME:CEST
DTSTART:20230326T010000
END:DAYLIGHT
BEGIN:STANDARD
TZOFFSETFROM:+0200
TZOFFSETTO:+0100
TZNAME:CET
DTSTART:20231029T010000
END:STANDARD
END:VTIMEZONE
BEGIN:VEVENT
DTSTART;TZID=Europe/Amsterdam:20230408T160000
DTEND;TZID=Europe/Amsterdam:20230408T213000
DTSTAMP:20260417T052625
CREATED:20221225T151121Z
LAST-MODIFIED:20230825T132638Z
UID:2270-1680969600-1680989400@scmaf.nl
SUMMARY:Benefietconcerten t.b.v. DORCAS\, Bethelkerk\, Lunteren
DESCRIPTION:Het is u ongetwijfeld niet ontgaan dat er een grote ramp zich heeft voltrokken in Turkije en Syrië. Op zaterdag 8 april 2023 organiseren wij twee benefietconcerten voor de stichting ‘Dorcas’ in de Bethelkerk te Lunteren. Dorcas wil hulp bieden aan de getroffen gebieden van de aardbeving in Syrië. Veel aandacht gaat uit naar Turkije in de media. Syrië is door de oorlog en het regime lastiger te bereiken\, maar de nood is hier niet minder groot. Veel Syriërs staan van het ene op het andere moment letterlijk in de bittere kou. Een jarenlange oorlog in combinatie met het regime zorgt ervoor dat de bevolking verstoken is van alles. Dorcas was hier voor de aardbeving al actief en heeft hierdoor een goed netwerk waardoor men in Syrië hulp kan bieden. Men is minder afhankelijk van het regime. Met deze concerten willen wij de stichting ondersteunen in het werk dat zij daar mogen doen voor de mensen in de getroffen gebieden. ’s Middags zal Gert van Hoef een orgelconcert geven op het Van der Heuvel-orgel. ’s avonds zal Het Christelijk Urker Visserskoor ‘Crescendo’ o.l.v. Louwe Kramer een concert geven waarbij tevens ruimte is voor samenzang. Deze avond zal Gerwin van der Plaats de koor- en samenzang begeleiden vanaf het orgel. Helpt u samen met ons Dorcas helpen? \nGert van Hoef ontdekte het orgel pas op 13-jarige leeftijd. Al snel bleek Gert over aanleg te beschikken\, wat voor zijn ouders een reden was om hem een orgel te geven. Vanaf 2008 kreeg hij thuis les en in januari 2009 deed Gert mee aan het Interclassicmusic Orgelconcours bij Johannus Orgelbouw in Ede. Daar behaalde hij de 1e prijs in zijn leeftijd- en muziekcategorie. In augustus 2010 won hij het Feike Asma concours bij Johannus Orgelbouw. In 2011 werd hij tweede op hetzelfde concours.Na op 1 juli zijn toelatingsexamen te hebben gedaan\, studeerde Gert sinds september 2013 hoofdvak orgel bij Jos van der Kooy aan het Koninklijk Conservatorium in Den Haag. Op 27 juni 2015 wint Gert het Govert van Wijn Orgelconcours\, dat jaarlijks plaatsvindt in de Grote Kerk te Maassluis.Op 21 juni 2017 heeft Gert eindexamen  gedaan op het majestueuze Müller-orgel in de St. Bavo te Haarlem. Dit betreft het eindexamen orgel voor zijn ‘Bachelor’ diploma in muziek (orgel). De jury was zeer onder de indruk en kende hem een score toe van 8\,5 punten (uit 10).In de zomer van 2018 heeft Gert zijn studie aan het conservatorium afgerond en behaalde hij het einddiploma. \nChr. Urkervisserskoor Crescendo \nHet Christelijk Urker Visserskoor Crescendo groeit en bloeit als nooit tevoren. Als grootste mannenkoor van Urk heeft zij een bijzondere plaats in de Nederlandse koormuziek. Crescendo heeft een bijzonder karakteristieke uitstraling van kracht en bezieling. De zang van Crescendo klinkt sinds 5 september 1953. Louwe Kramer startte toen met 23 jonge zangers als Chr. Jongemannenkoor. In 1955 nam zijn zoon Meindert W. Kramer de dirigeerstok over. Onder zijn leiding is het koor uit mogen groeien tot het grootste mannenkoor van Urk. In februari 1999 werd de dirigeerstok overgedragen aan zijn zoon Louwe Kramer. Deze bouwt nu verder aan dat wat zijn vader heeft bereikt. \nOndanks de grote muzikale productiviteit is het repertoire van Crescendo in feite ongewijzigd gebleven. Men zingt bewerkingen van Psalmen\, geestelijke- en vaderlandse liederen. Binnen de grenzen van Nederland zingt men dan ook inderdaad uitsluitend Nederlands. In de loop der jaren produceerde Crescendo dan ook meer dan 20 langspeelplaten en meer dan 15 cd’s. Regelmatig ontvangt men reacties uit het buitenland\, alwaar men de zang van Crescendo goed weet te waarderen. \nDe eenvoud is tevens een van de sterke kanten van Crescendo. Telkens weet men grote kerken vol met mensen te krijgen\, daar waar Crescendo zingt. Het geheim van Crescendo ligt in het feit dat men met bezieling zingt. En in de combinatie van muziek\, tekst en voordracht. In Zwitserland zegt men het zo kernachtig: ze geloven in wat ze zingen!  Het zijn echter maar amateurs\, waarvan nog altijd een deel inderdaad wekelijks als beroepsvisser zijn brood verdient. \n 
URL:https://scmaf.nl/evenement/orgel-en-koorconcert-bethelkerk-lunteren/
LOCATION:Bethelkerk\, Lunteren\, De Haverkamp 1\, Lunteren\, Gelderland\, 6741 PM\, Nederland
CATEGORIES:ARCHIEF,Concert
ATTACH;FMTTYPE=image/jpeg:https://scmaf.nl/wp-content/uploads/2022/12/ticketsjop.jpg
ORGANIZER;CN="Stichting Culturele Muzikale Activiteiten Flevoland":MAILTO:info@scmaf.nl
END:VEVENT
END:VCALENDAR